Workbook

Sheet 19742 Математика 4 класс
A1: Часовой пояс | B1: Екатеринбург (МСК+2, UTC+5)
A3: Код | B3: ФИО | C3: Набранные баллы | D3: Максимальный балл | E3: ="Время начала сессии (" & VLOOKUP($B$1,TimeZones!$A$1:$C$28,3,FALSE) & ")" -> Время начала сессии (Екатеринбург) | F3: ="Время конца сессии (" & VLOOKUP($B$1,TimeZones!$A$1:$C$28,3,FALSE) & ")" -> Время конца сессии (Екатеринбург) | G3: Статус | H3: Грамота
A4: 19742/edu660452/4/r724563g | B4: Кудринских Даниил Романович | C4: 3 | D4: 56 | E4: =46309.1470930823 + (VLOOKUP($B$1,TimeZones!$A$1:$C$28,2,FALSE))/24 -> 46309.355 | F4: =46309.1791528881 + (VLOOKUP($B$1,TimeZones!$A$1:$C$28,2,FALSE))/24 -> 46309.387 | G4: участник
A5: 19742/edu660452/4/g32r56v5 | B5: Рахматов Рамазан Джахангирович | C5: 3 | D5: 56 | E5: =46309.1490230866 + (VLOOKUP($B$1,TimeZones!$A$1:$C$28,2,FALSE))/24 -> 46309.357 | F5: =46309.1801191663 + (VLOOKUP($B$1,TimeZones!$A$1:$C$28,2,FALSE))/24 -> 46309.388 | G5: участник
A6: 19742/edu660452/4/qv635685 | B6: Зубов Матвей Романович | C6: 0 | D6: 56 | E6: =46309.146828818 + (VLOOKUP($B$1,TimeZones!$A$1:$C$28,2,FALSE))/24 -> 46309.355 | F6: =46309.1783414098 + (VLOOKUP($B$1,TimeZones!$A$1:$C$28,2,FALSE))/24 -> 46309.387 | G6: участник
A7: 19742/edu660452/4/4968323g | B7: Коптелов Кирилл Дмитриевич | C7: 0 | D7: 56 | E7: =46309.1499015073 + (VLOOKUP($B$1,TimeZones!$A$1:$C$28,2,FALSE))/24 -> 46309.358 | F7: =46309.1828733013 + (VLOOKUP($B$1,TimeZones!$A$1:$C$28,2,FALSE))/24 -> 46309.391 | G7: участник
A8: 19742/edu660452/4/982g72gv | B8: Перов Иван Александрович | C8: 0 | D8: 56 | E8: =46309.1494140313 + (VLOOKUP($B$1,TimeZones!$A$1:$C$28,2,FALSE))/24 -> 46309.358 | F8: =46309.1808469851 + (VLOOKUP($B$1,TimeZones!$A$1:$C$28,2,FALSE))/24 -> 46309.389 | G8: участник

Sheet 19743 Математика 5 класс
A1: Часовой пояс | B1: Екатеринбург (МСК+2, UTC+5)
A3: Код | B3: ФИО | C3: Набранные баллы | D3: Максимальный балл | E3: ="Время начала сессии (" & VLOOKUP($B$1,TimeZones!$A$1:$C$28,3,FALSE) & ")" -> Время начала сессии (Екатеринбург) | F3: ="Время конца сессии (" & VLOOKUP($B$1,TimeZones!$A$1:$C$28,3,FALSE) & ")" -> Время конца сессии (Екатеринбург) | G3: Статус | H3: Грамота
A4: 19743/edu660452/5/3769v2qr | B4: Берсенев Артем Николаевич | C4: 24 | D4: 56 | E4: =46309.2850800951 + (VLOOKUP($B$1,TimeZones!$A$1:$C$28,2,FALSE))/24 -> 46309.493 | F4: =46309.3168505183 + (VLOOKUP($B$1,TimeZones!$A$1:$C$28,2,FALSE))/24 -> 46309.525 | G4: участник
A5: 19743/edu660452/5/896v32g4 | B5: Бахтеева Наталья Михайловна | C5: 14 | D5: 56 | E5: =46309.2885494736 + (VLOOKUP($B$1,TimeZones!$A$1:$C$28,2,FALSE))/24 -> 46309.497 | F5: =46309.3140542701 + (VLOOKUP($B$1,TimeZones!$A$1:$C$28,2,FALSE))/24 -> 46309.522 | G5: участник
A6: 19743/edu660452/5/g32r5698 | B6: Зубов Ярослав Романович | C6: 7 | D6: 56 | E6: =46309.2939779764 + (VLOOKUP($B$1,TimeZones!$A$1:$C$28,2,FALSE))/24 -> 46309.502 | F6: =46309.3175287045 + (VLOOKUP($B$1,TimeZones!$A$1:$C$28,2,FALSE))/24 -> 46309.526 | G6: участник
A7: 19743/edu660452/5/5q2792rz | B7: Кудринских Александр Владимирович | C7: 7 | D7: 56 | E7: =46309.2901060563 + (VLOOKUP($B$1,TimeZones!$A$1:$C$28,2,FALSE))/24 -> 46309.498 | F7: =46309.3132112434 + (VLOOKUP($B$1,TimeZones!$A$1:$C$28,2,FALSE))/24 -> 46309.522 | G7: участник
A8: 19743/edu660452/5/842g72qg | B8: Ботанин Илья Сергеевич | C8: 0 | D8: 56 | E8: =46309.2829242004 + (VLOOKUP($B$1,TimeZones!$A$1:$C$28,2,FALSE))/24 -> 46309.491 | F8: =46309.3125502646 + (VLOOKUP($B$1,TimeZones!$A$1:$C$28,2,FALSE))/24 -> 46309.521 | G8: участник
A9: 19743/edu660452/5/r72q463g | B9: Кудринских Артем Романович | C9: 0 | D9: 56 | E9: =46309.2882285044 + (VLOOKUP($B$1,TimeZones!$A$1:$C$28,2,FALSE))/24 -> 46309.497 | F9: =46309.3148779842 + (VLOOKUP($B$1,TimeZones!$A$1:$C$28,2,FALSE))/24 -> 46309.523 | G9: участник
A10: 19743/edu660452/5/4w2z3675 | B10: Лапшин Иван Иванович | C10: 0 | D10: 56 | E10: =46309.2903892587 + (VLOOKUP($B$1,TimeZones!$A$1:$C$28,2,FALSE))/24 -> 46309.499 | F10: =46309.299976567 + (VLOOKUP($B$1,TimeZones!$A$1:$C$28,2,FALSE))/24 -> 46309.508 | G10: участник

Sheet 19744 Математика 6 класс
A1: Часовой пояс | B1: Екатеринбург (МСК+2, UTC+5)
A3: Код | B3: ФИО | C3: Набранные баллы | D3: Максимальный балл | E3: ="Время начала сессии (" & VLOOKUP($B$1,TimeZones!$A$1:$C$28,3,FALSE) & ")" -> Время начала сессии (Екатеринбург) | F3: ="Время конца сессии (" & VLOOKUP($B$1,TimeZones!$A$1:$C$28,3,FALSE) & ")" -> Время конца сессии (Екатеринбург) | G3: Статус | H3: Грамота
A4: 19744/edu660452/6/298g78vg | B4: Земерова Маргарита Андреевна | C4: 42 | D4: 56 | E4: =46309.2069951099 + (VLOOKUP($B$1,TimeZones!$A$1:$C$28,2,FALSE))/24 -> 46309.415 | F4: =46309.221102336 + (VLOOKUP($B$1,TimeZones!$A$1:$C$28,2,FALSE))/24 -> 46309.429 | G4: победитель
A5: 19744/edu660452/6/r7845634 | B5: Крестьянинов Илья Сергеевич | C5: 6 | D5: 56 | E5: =46309.2111889028 + (VLOOKUP($B$1,TimeZones!$A$1:$C$28,2,FALSE))/24 -> 46309.42 | F5: =46309.2314602741 + (VLOOKUP($B$1,TimeZones!$A$1:$C$28,2,FALSE))/24 -> 46309.44 | G5: участник
A6: 19744/edu660452/6/r78q983w | B6: Рахматова Альбина Хуршедовна | C6: 3 | D6: 56 | E6: =46309.2125282895 + (VLOOKUP($B$1,TimeZones!$A$1:$C$28,2,FALSE))/24 -> 46309.421 | F6: =46309.2175164477 + (VLOOKUP($B$1,TimeZones!$A$1:$C$28,2,FALSE))/24 -> 46309.426 | G6: участник
A7: 19744/edu660452/6/5q8746z2 | B7: Яблонский Илья Алексеевич | C7: 3 | D7: 56 | E7: =46309.2068558524 + (VLOOKUP($B$1,TimeZones!$A$1:$C$28,2,FALSE))/24 -> 46309.415 | F7: =46309.2154519275 + (VLOOKUP($B$1,TimeZones!$A$1:$C$28,2,FALSE))/24 -> 46309.424 | G7: участник
A8: 19744/edu660452/6/g38r56w2 | B8: Коптелов Никита Дмитриевич | C8: 0 | D8: 56 | E8: =46309.2176925088 + (VLOOKUP($B$1,TimeZones!$A$1:$C$28,2,FALSE))/24 -> 46309.426 | F8: =46309.2203491435 + (VLOOKUP($B$1,TimeZones!$A$1:$C$28,2,FALSE))/24 -> 46309.429 | G8: участник
A9: 19744/edu660452/6/3789465q | B9: Перова Полина Александровна | C9: 0 | D9: 56 | E9: =46309.2084557939 + (VLOOKUP($B$1,TimeZones!$A$1:$C$28,2,FALSE))/24 -> 46309.417 | F9: =46309.2206758899 + (VLOOKUP($B$1,TimeZones!$A$1:$C$28,2,FALSE))/24 -> 46309.429 | G9: участник
A10: 19744/edu660452/6/246v38gw | B10: Рахматов Тимур Хуршедович | C10: 0 | D10: 56 | E10: =46309.2058599591 + (VLOOKUP($B$1,TimeZones!$A$1:$C$28,2,FALSE))/24 -> 46309.414 | F10: =46309.2141195608 + (VLOOKUP($B$1,TimeZones!$A$1:$C$28,2,FALSE))/24 -> 46309.422 | G10: участник
A11: 19744/edu660452/6/qv6356g9 | B11: Тропин Сергей Андреевич | C11: 0 | D11: 56 | E11: =46309.2072855508 + (VLOOKUP($B$1,TimeZones!$A$1:$C$28,2,FALSE))/24 -> 46309.416 | F11: =46309.2141178841 + (VLOOKUP($B$1,TimeZones!$A$1:$C$28,2,FALSE))/24 -> 46309.422 | G11: участник

Sheet 19745 Математика 7 класс
A1: Часовой пояс | B1: Екатеринбург (МСК+2, UTC+5)
A3: Код | B3: ФИО | C3: Набранные баллы | D3: Максимальный балл | E3: ="Время начала сессии (" & VLOOKUP($B$1,TimeZones!$A$1:$C$28,3,FALSE) & ")" -> Время начала сессии (Екатеринбург) | F3: ="Время конца сессии (" & VLOOKUP($B$1,TimeZones!$A$1:$C$28,3,FALSE) & ")" -> Время конца сессии (Екатеринбург) | G3: Статус | H3: Грамота
A4: 19745/edu660452/7/qv635689 | B4: Глебова Варвара Александровна | C4: 12 | D4: 56 | E4: =46311.1402521608 + (VLOOKUP($B$1,TimeZones!$A$1:$C$28,2,FALSE))/24 -> 46311.349 | F4: =46311.1801135784 + (VLOOKUP($B$1,TimeZones!$A$1:$C$28,2,FALSE))/24 -> 46311.388 | G4: участник
A5: 19745/edu660452/7/5q4794r2 | B5: Глебова Полина Николаевна | C5: 9 | D5: 56 | E5: =46311.1407214107 + (VLOOKUP($B$1,TimeZones!$A$1:$C$28,2,FALSE))/24 -> 46311.349 | F5: =46311.1693597042 + (VLOOKUP($B$1,TimeZones!$A$1:$C$28,2,FALSE))/24 -> 46311.378 | G5: участник
A6: 19745/edu660452/7/296v347w | B6: Глебов Егор Сергеевич | C6: 8 | D6: 56 | E6: =46311.1402550826 + (VLOOKUP($B$1,TimeZones!$A$1:$C$28,2,FALSE))/24 -> 46311.349 | F6: =46311.1696384616 + (VLOOKUP($B$1,TimeZones!$A$1:$C$28,2,FALSE))/24 -> 46311.378 | G6: участник
A7: 19745/edu660452/7/92683487 | B7: Барняков Богдан Михайлович | C7: 7 | D7: 56 | E7: =46311.141352516 + (VLOOKUP($B$1,TimeZones!$A$1:$C$28,2,FALSE))/24 -> 46311.35 | F7: =46311.1875228077 + (VLOOKUP($B$1,TimeZones!$A$1:$C$28,2,FALSE))/24 -> 46311.396 | G7: участник
A8: 19745/edu660452/7/g34r5695 | B8: Бахтеев Арсений Михайлович | C8: 1 | D8: 56 | E8: =46311.140864975 + (VLOOKUP($B$1,TimeZones!$A$1:$C$28,2,FALSE))/24 -> 46311.349 | F8: =46311.1716793103 + (VLOOKUP($B$1,TimeZones!$A$1:$C$28,2,FALSE))/24 -> 46311.38 | G8: участник
A9: 19745/edu660452/7/284g74qz | B9: Парфенова Софья Евгеньевна | C9: 0 | D9: 56 | E9: =46311.1404973039 + (VLOOKUP($B$1,TimeZones!$A$1:$C$28,2,FALSE))/24 -> 46311.349 | F9: =46311.1623102058 + (VLOOKUP($B$1,TimeZones!$A$1:$C$28,2,FALSE))/24 -> 46311.371 | G9: участник

Sheet 19746 Математика 8 класс
A1: Часовой пояс | B1: Екатеринбург (МСК+2, UTC+5)
A3: Код | B3: ФИО | C3: Набранные баллы | D3: Максимальный балл | E3: ="Время начала сессии (" & VLOOKUP($B$1,TimeZones!$A$1:$C$28,3,FALSE) & ")" -> Время начала сессии (Екатеринбург) | F3: ="Время конца сессии (" & VLOOKUP($B$1,TimeZones!$A$1:$C$28,3,FALSE) & ")" -> Время конца сессии (Екатеринбург) | G3: Статус | H3: Грамота
A4: 19746/edu660452/8/qv2352g6 | B4: Зубарева Кристина Эдуардовна | C4: 14 | D4: 56 | E4: =46311.2066032015 + (VLOOKUP($B$1,TimeZones!$A$1:$C$28,2,FALSE))/24 -> 46311.415 | F4: =46311.2300787491 + (VLOOKUP($B$1,TimeZones!$A$1:$C$28,2,FALSE))/24 -> 46311.438 | G4: участник
A5: 19746/edu660452/8/5q87427z | B5: Шабунина Полина Викторовна | C5: 14 | D5: 56 | E5: =46311.1737297038 + (VLOOKUP($B$1,TimeZones!$A$1:$C$28,2,FALSE))/24 -> 46311.382 | F5: =46311.1931749057 + (VLOOKUP($B$1,TimeZones!$A$1:$C$28,2,FALSE))/24 -> 46311.402 | G5: участник
A6: 19746/edu660452/8/9q8578z5 | B6: Ботанин Дмитрий Алексеевич | C6: 13 | D6: 56 | E6: =46311.1751076066 + (VLOOKUP($B$1,TimeZones!$A$1:$C$28,2,FALSE))/24 -> 46311.383 | F6: =46311.1930286898 + (VLOOKUP($B$1,TimeZones!$A$1:$C$28,2,FALSE))/24 -> 46311.401 | G6: участник
A7: 19746/edu660452/8/37294784 | B7: Кудринских Марина Владимировна | C7: 11 | D7: 56 | E7: =46311.2066465331 + (VLOOKUP($B$1,TimeZones!$A$1:$C$28,2,FALSE))/24 -> 46311.415 | F7: =46311.2303960496 + (VLOOKUP($B$1,TimeZones!$A$1:$C$28,2,FALSE))/24 -> 46311.439 | G7: участник
A8: 19746/edu660452/8/wv2w929z | B8: БУЕНОК АНДРЕЙ СЕРГЕЕВИЧ | C8: 10 | D8: 56 | E8: =46311.1751913947 + (VLOOKUP($B$1,TimeZones!$A$1:$C$28,2,FALSE))/24 -> 46311.384 | F8: =46311.1997160292 + (VLOOKUP($B$1,TimeZones!$A$1:$C$28,2,FALSE))/24 -> 46311.408 | G8: участник
A9: 19746/edu660452/8/968g784v | B9: Акулин Денис Васильевич | C9: 8 | D9: 56 | E9: =46311.1764136888 + (VLOOKUP($B$1,TimeZones!$A$1:$C$28,2,FALSE))/24 -> 46311.385 | F9: =46311.1922231828 + (VLOOKUP($B$1,TimeZones!$A$1:$C$28,2,FALSE))/24 -> 46311.401 | G9: участник
A10: 19746/edu660452/8/g38r529q | B10: Лешуков Алексей Александрович | C10: 3 | D10: 56 | E10: =46311.1752154777 + (VLOOKUP($B$1,TimeZones!$A$1:$C$28,2,FALSE))/24 -> 46311.384 | F10: =46311.1930894023 + (VLOOKUP($B$1,TimeZones!$A$1:$C$28,2,FALSE))/24 -> 46311.401 | G10: участник
A11: 19746/edu660452/8/r78452q9 | B11: Михайлов Алексей Евгеньевич | C11: 3 | D11: 56 | E11: =46311.1767344522 + (VLOOKUP($B$1,TimeZones!$A$1:$C$28,2,FALSE))/24 -> 46311.385 | F11: =46311.2075190493 + (VLOOKUP($B$1,TimeZones!$A$1:$C$28,2,FALSE))/24 -> 46311.416 | G11: участник
A12: 19746/edu660452/8/6w8z329z | B12: Мосяев Александр Михаилович | C12: 1 | D12: 56 | E12: =46311.205357425 + (VLOOKUP($B$1,TimeZones!$A$1:$C$28,2,FALSE))/24 -> 46311.414 | F12: =46311.2254955554 + (VLOOKUP($B$1,TimeZones!$A$1:$C$28,2,FALSE))/24 -> 46311.434 | G12: участник

Sheet 19747 Математика 9 класс
A1: Часовой пояс | B1: Екатеринбург (МСК+2, UTC+5)
A3: Код | B3: ФИО | C3: Набранные баллы | D3: Максимальный балл | E3: ="Время начала сессии (" & VLOOKUP($B$1,TimeZones!$A$1:$C$28,3,FALSE) & ")" -> Время начала сессии (Екатеринбург) | F3: ="Время конца сессии (" & VLOOKUP($B$1,TimeZones!$A$1:$C$28,3,FALSE) & ")" -> Время конца сессии (Екатеринбург) | G3: Статус | H3: Грамота
A4: 19747/edu660452/9/g826g439 | B4: Кыштымова Маргарита Александровна | C4: 35 | D4: 56 | E4: =46311.139016829 + (VLOOKUP($B$1,TimeZones!$A$1:$C$28,2,FALSE))/24 -> 46311.347 | F4: =46311.1572625676 + (VLOOKUP($B$1,TimeZones!$A$1:$C$28,2,FALSE))/24 -> 46311.366 | G4: победитель
A5: 19747/edu660452/9/3729v46q | B5: Земерова Александра Андреевна | C5: 24 | D5: 56 | E5: =46311.1607807175 + (VLOOKUP($B$1,TimeZones!$A$1:$C$28,2,FALSE))/24 -> 46311.369 | F5: =46311.1731933701 + (VLOOKUP($B$1,TimeZones!$A$1:$C$28,2,FALSE))/24 -> 46311.382 | G5: участник
A6: 19747/edu660452/9/qv23526r | B6: Сенцов Владимир Олегович | C6: 18 | D6: 56 | E6: =46311.212843785 + (VLOOKUP($B$1,TimeZones!$A$1:$C$28,2,FALSE))/24 -> 46311.421 | F6: =46311.2304140715 + (VLOOKUP($B$1,TimeZones!$A$1:$C$28,2,FALSE))/24 -> 46311.439 | G6: участник
A7: 19747/edu660452/9/864g74zg | B7: Пономарева Дарья Анатольевна | C7: 7 | D7: 56 | E7: =46311.1386060334 + (VLOOKUP($B$1,TimeZones!$A$1:$C$28,2,FALSE))/24 -> 46311.347 | F7: =46311.1735826679 + (VLOOKUP($B$1,TimeZones!$A$1:$C$28,2,FALSE))/24 -> 46311.382 | G7: участник

Sheet 19748 Математика 10 класс
A1: Список участников появится после окончания олимпиады, если они будут

Sheet 19749 Математика 11 класс
A1: Список участников появится после окончания олимпиады, если они будут

Sheet TimeZones
A1: UTC (МСК-3, UTC) | B1: 0 | C1: UTC
A2: Калининград (МСК-1, UTC+2) | B2: 2 | C2: Калининград
A3: Москва (МСК, UTC+3) | B3: 3 | C3: Москва
A4: Симферополь (МСК, UTC+3) | B4: 3 | C4: Симферополь
A5: Киров (МСК, UTC+3) | B5: 3 | C5: Киров
A6: Волгоград (МСК, UTC+3) | B6: 3 | C6: Волгоград
A7: Астрахань (МСК+1, UTC+4) | B7: 4 | C7: Астрахань
A8: Саратов (МСК+1, UTC+4) | B8: 4 | C8: Саратов
A9: Ульяновск (МСК+1, UTC+4) | B9: 4 | C9: Ульяновск
A10: Самара (МСК+1, UTC+4) | B10: 4 | C10: Самара
A11: Екатеринбург (МСК+2, UTC+5) | B11: 5 | C11: Екатеринбург
A12: Омск (МСК+3, UTC+6) | B12: 6 | C12: Омск
... A28: Анадырь (МСК+9, UTC+12) | B28: 12 | C28: Анадырь
